BEGIN:VCALENDAR
VERSION:2.0
PRODID:-//AC-Hotzenwald - ECPv6.15.20//NONSGML v1.0//EN
CALSCALE:GREGORIAN
METHOD:PUBLISH
X-ORIGINAL-URL:https://www.ac-hotzenwald.de
X-WR-CALDESC:Veranstaltungen für AC-Hotzenwald
REFRESH-INTERVAL;VALUE=DURATION:PT1H
X-Robots-Tag:noindex
X-PUBLISHED-TTL:PT1H
BEGIN:VTIMEZONE
TZID:Europe/Berlin
BEGIN:DAYLIGHT
TZOFFSETFROM:+0100
TZOFFSETTO:+0200
TZNAME:CEST
DTSTART:20230326T010000
END:DAYLIGHT
BEGIN:STANDARD
TZOFFSETFROM:+0200
TZOFFSETTO:+0100
TZNAME:CET
DTSTART:20231029T010000
END:STANDARD
BEGIN:DAYLIGHT
TZOFFSETFROM:+0100
TZOFFSETTO:+0200
TZNAME:CEST
DTSTART:20240331T010000
END:DAYLIGHT
BEGIN:STANDARD
TZOFFSETFROM:+0200
TZOFFSETTO:+0100
TZNAME:CET
DTSTART:20241027T010000
END:STANDARD
BEGIN:DAYLIGHT
TZOFFSETFROM:+0100
TZOFFSETTO:+0200
TZNAME:CEST
DTSTART:20250330T010000
END:DAYLIGHT
BEGIN:STANDARD
TZOFFSETFROM:+0200
TZOFFSETTO:+0100
TZNAME:CET
DTSTART:20251026T010000
END:STANDARD
END:VTIMEZONE
BEGIN:VEVENT
DTSTART;TZID=Europe/Berlin:20240707T100000
DTEND;TZID=Europe/Berlin:20240707T180000
DTSTAMP:20260419T212345
CREATED:20240228T133519Z
LAST-MODIFIED:20240417T080029Z
UID:5974-1720346400-1720375200@www.ac-hotzenwald.de
SUMMARY:Oldtimertreffen 2024
DESCRIPTION:
URL:https://www.ac-hotzenwald.de/event/oldtimertreffen-2024/
LOCATION:AC Heim Herrischried\, Sägestr.19\, Herrischried\, 79737\, Deutschland
CATEGORIES:Veranstaltung
ATTACH;FMTTYPE=image/jpeg:https://www.ac-hotzenwald.de/wp-content/uploads/2024/02/oldtimer2024_web.jpg
ORGANIZER;CN="AC-Hotzenwald":MAILTO:info@ac-hotzenwald.de
END:VEVENT
END:VCALENDAR