BEGIN:VCALENDAR
VERSION:2.0
PRODID:-//AC-Hotzenwald - ECPv6.15.20//NONSGML v1.0//EN
CALSCALE:GREGORIAN
METHOD:PUBLISH
X-WR-CALNAME:AC-Hotzenwald
X-ORIGINAL-URL:https://www.ac-hotzenwald.de
X-WR-CALDESC:Veranstaltungen für AC-Hotzenwald
REFRESH-INTERVAL;VALUE=DURATION:PT1H
X-Robots-Tag:noindex
X-PUBLISHED-TTL:PT1H
BEGIN:VTIMEZONE
TZID:Europe/Berlin
BEGIN:DAYLIGHT
TZOFFSETFROM:+0100
TZOFFSETTO:+0200
TZNAME:CEST
DTSTART:20250330T010000
END:DAYLIGHT
BEGIN:STANDARD
TZOFFSETFROM:+0200
TZOFFSETTO:+0100
TZNAME:CET
DTSTART:20251026T010000
END:STANDARD
BEGIN:DAYLIGHT
TZOFFSETFROM:+0100
TZOFFSETTO:+0200
TZNAME:CEST
DTSTART:20260329T010000
END:DAYLIGHT
BEGIN:STANDARD
TZOFFSETFROM:+0200
TZOFFSETTO:+0100
TZNAME:CET
DTSTART:20261025T010000
END:STANDARD
BEGIN:DAYLIGHT
TZOFFSETFROM:+0100
TZOFFSETTO:+0200
TZNAME:CEST
DTSTART:20270328T010000
END:DAYLIGHT
BEGIN:STANDARD
TZOFFSETFROM:+0200
TZOFFSETTO:+0100
TZNAME:CET
DTSTART:20271031T010000
END:STANDARD
END:VTIMEZONE
BEGIN:VEVENT
DTSTART;TZID=Europe/Berlin:20260426T090000
DTEND;TZID=Europe/Berlin:20260426T170000
DTSTAMP:20260424T153435
CREATED:20260304T090348Z
LAST-MODIFIED:20260304T102824Z
UID:6501-1777194000-1777222800@www.ac-hotzenwald.de
SUMMARY:SlalomSonntag 2026
DESCRIPTION:Der AC Hotzenwald richtet mit dem ADAC Clubsport-Slalom den Autoslalom in Herrischried–Großherrischwand aus. \nEin bunt gemischtes Starterfeld aus Serienfahrzeugen\, getunten Raritäten und PS-starken Rennwagen lädt Besucherinnen und Besucher zum Staunen ein. Schon am Start sorgen durchdrehende Reifen und aufheulende Motoren für echtes Rennfeeling und Adrenalin pur. Entlang der rund 1.000 Meter langen Strecke steht die Sicherheit aller Teilnehmer und Zuschauer jederzeit an oberster Stelle. \nSpannende Läufe\, packende Duelle und mitreißender Motorsport machen diese Veranstaltung zu einem besonderen Erlebnis für Fans und Interessierte gleichermaßen. 🚗💨
URL:https://www.ac-hotzenwald.de/event/slalomsonntag-2026/
LOCATION:Strecke nach Herrischried\, Lindenweg\, Herrischried\, 79737
CATEGORIES:Veranstaltung
ATTACH;FMTTYPE=image/jpeg:https://www.ac-hotzenwald.de/wp-content/uploads/2026/03/SlalomPlakat2026_A4_RGB_web.jpg
ORGANIZER;CN="AC-Hotzenwald":MAILTO:info@ac-hotzenwald.de
END:VEVENT
END:VCALENDAR