BEGIN:VCALENDAR
VERSION:2.0
PRODID:-//AC-Hotzenwald - ECPv6.15.20//NONSGML v1.0//EN
CALSCALE:GREGORIAN
METHOD:PUBLISH
X-WR-CALNAME:AC-Hotzenwald
X-ORIGINAL-URL:https://www.ac-hotzenwald.de
X-WR-CALDESC:Veranstaltungen für AC-Hotzenwald
REFRESH-INTERVAL;VALUE=DURATION:PT1H
X-Robots-Tag:noindex
X-PUBLISHED-TTL:PT1H
BEGIN:VTIMEZONE
TZID:Europe/Berlin
BEGIN:DAYLIGHT
TZOFFSETFROM:+0100
TZOFFSETTO:+0200
TZNAME:CEST
DTSTART:20250330T010000
END:DAYLIGHT
BEGIN:STANDARD
TZOFFSETFROM:+0200
TZOFFSETTO:+0100
TZNAME:CET
DTSTART:20251026T010000
END:STANDARD
BEGIN:DAYLIGHT
TZOFFSETFROM:+0100
TZOFFSETTO:+0200
TZNAME:CEST
DTSTART:20260329T010000
END:DAYLIGHT
BEGIN:STANDARD
TZOFFSETFROM:+0200
TZOFFSETTO:+0100
TZNAME:CET
DTSTART:20261025T010000
END:STANDARD
BEGIN:DAYLIGHT
TZOFFSETFROM:+0100
TZOFFSETTO:+0200
TZNAME:CEST
DTSTART:20270328T010000
END:DAYLIGHT
BEGIN:STANDARD
TZOFFSETFROM:+0200
TZOFFSETTO:+0100
TZNAME:CET
DTSTART:20271031T010000
END:STANDARD
END:VTIMEZONE
BEGIN:VEVENT
DTSTART;TZID=Europe/Berlin:20260726T120000
DTEND;TZID=Europe/Berlin:20260726T170000
DTSTAMP:20260424T200006
CREATED:20260304T090245Z
LAST-MODIFIED:20260304T102829Z
UID:6507-1785067200-1785085200@www.ac-hotzenwald.de
SUMMARY:Motorradturnier 2026
DESCRIPTION:Geschicklichkeitsturnier für Motorräder\, Motorroller\, Mopeds und Mofas \nWir laden euch herzlich ein\, euer Können und eure Geschicklichkeit auf zwei Rädern unter Beweis zu stellen! Egal ob Anfänger oder Profi\, dieses Turnier verspricht Adrenalin\, Spaß und spannende Herausforderungen für jeden Motorradbegeisterten. Das Turnier findet auf dem Parkplatz bei der Eissporthalle Herrischried statt! \nEuer AC Hotzenwald!
URL:https://www.ac-hotzenwald.de/event/motorradturnier-2026/
LOCATION:Liftstraße 71\, 79737 Herrischried\, Liftstraße 71\, Herrischried\, 79737
CATEGORIES:Veranstaltung
ATTACH;FMTTYPE=image/jpeg:https://www.ac-hotzenwald.de/wp-content/uploads/2026/03/MotorradTurnierA4_2026_RGB_Web.jpg
ORGANIZER;CN="AC-Hotzenwald":MAILTO:info@ac-hotzenwald.de
END:VEVENT
END:VCALENDAR