BEGIN:VCALENDAR
VERSION:2.0
PRODID:-//AC-Hotzenwald - ECPv6.15.20//NONSGML v1.0//EN
CALSCALE:GREGORIAN
METHOD:PUBLISH
X-WR-CALNAME:AC-Hotzenwald
X-ORIGINAL-URL:https://www.ac-hotzenwald.de
X-WR-CALDESC:Veranstaltungen für AC-Hotzenwald
REFRESH-INTERVAL;VALUE=DURATION:PT1H
X-Robots-Tag:noindex
X-PUBLISHED-TTL:PT1H
BEGIN:VTIMEZONE
TZID:Europe/Berlin
BEGIN:DAYLIGHT
TZOFFSETFROM:+0100
TZOFFSETTO:+0200
TZNAME:CEST
DTSTART:20250330T010000
END:DAYLIGHT
BEGIN:STANDARD
TZOFFSETFROM:+0200
TZOFFSETTO:+0100
TZNAME:CET
DTSTART:20251026T010000
END:STANDARD
BEGIN:DAYLIGHT
TZOFFSETFROM:+0100
TZOFFSETTO:+0200
TZNAME:CEST
DTSTART:20260329T010000
END:DAYLIGHT
BEGIN:STANDARD
TZOFFSETFROM:+0200
TZOFFSETTO:+0100
TZNAME:CET
DTSTART:20261025T010000
END:STANDARD
BEGIN:DAYLIGHT
TZOFFSETFROM:+0100
TZOFFSETTO:+0200
TZNAME:CEST
DTSTART:20270328T010000
END:DAYLIGHT
BEGIN:STANDARD
TZOFFSETFROM:+0200
TZOFFSETTO:+0100
TZNAME:CET
DTSTART:20271031T010000
END:STANDARD
END:VTIMEZONE
BEGIN:VEVENT
DTSTART;TZID=Europe/Berlin:20260328T120000
DTEND;TZID=Europe/Berlin:20260328T180000
DTSTAMP:20260424T153438
CREATED:20260304T090414Z
LAST-MODIFIED:20260304T102817Z
UID:6503-1774699200-1774720800@www.ac-hotzenwald.de
SUMMARY:Eisslalom 2026
DESCRIPTION:Der AC Hotzenwald lädt zum spektakulären Eisslalom in der Eishalle Herrischried ein! Motorsportfans dürfen sich auf packende Action freuen\, wenn Fahrerinnen und Fahrer mit Autos und Karts ihr Können auf rutschigem Untergrund unter Beweis stellen. \nMotorsport auf dem Eis! Beim Eisslalom sind höchste Präzision und perfekte Fahrzeugkontrolle gefragt – hier zählen nicht nur Geschwindigkeit\, sondern auch Geschicklichkeit und Fahrtechnik. Ob erfahrene Profis oder motivierte Neueinsteiger: Dieses Event verspricht Nervenkitzel pur. Zuschauer sind herzlich eingeladen\, dieses besondere Winter-Motorsporterlebnis hautnah mitzuerleben. Seien Sie dabei\, wenn es heißt: Motoren starten\, Reifen aufs Eis – und ab durch den Slalom! ❄️🏁🚗
URL:https://www.ac-hotzenwald.de/event/eisslalom-2026/
LOCATION:Eissporthalle Herrischried\, Liftstr.71\, Herrischried\, 79737
CATEGORIES:Veranstaltung
ATTACH;FMTTYPE=image/jpeg:https://www.ac-hotzenwald.de/wp-content/uploads/2026/03/Eisslalom_A4_2026_Web.jpg
ORGANIZER;CN="AC-Hotzenwald":MAILTO:info@ac-hotzenwald.de
END:VEVENT
END:VCALENDAR